BEGIN:VCALENDAR
VERSION:2.0
PRODID:-//217.160.0.157//NONSGML kigkonsult.se iCalcreator 2.20//
CALSCALE:GREGORIAN
METHOD:PUBLISH
X-WR-TIMEZONE:Europe/Berlin
BEGIN:VEVENT
UID:event563@Fußballverein Leopoldshafen 1936 e.V
DTSTAMP:20260425T143421Z
CATEGORIES:FVL Fußball
DESCRIPTION:Kreispokal D-Junioren\nKategorie: FVL Fußball\nICS-Link: https:
 //www.fv-leopoldshafen.de/index.php?option=com_jem&view=event&id=563:kreis
 pokal-d-junioren&Itemid=761\n
DTSTART;TZID=Europe/Berlin:20260520T180000
DTEND;TZID=Europe/Berlin:20260520T180000
LOCATION:FVL Sportgelände\,Höfleiner Straße 4\,76344 Eggenstein-Leopoldshaf
 en \, OT Leopoldshafen
SUMMARY:Kreispokal D-Junioren
URL:https://www.fv-leopoldshafen.de/index.php?option=com_jem&view=event&id=
 563:kreispokal-d-junioren&Itemid=761
END:VEVENT
END:VCALENDAR